BEGIN:VCALENDAR
VERSION:2.0
PRODID:-//Kincardine Nimrod Club - ECPv6.15.17//NONSGML v1.0//EN
CALSCALE:GREGORIAN
METHOD:PUBLISH
X-ORIGINAL-URL:https://www.kincardinenimrodclub.ca
X-WR-CALDESC:Events for Kincardine Nimrod Club
REFRESH-INTERVAL;VALUE=DURATION:PT1H
X-Robots-Tag:noindex
X-PUBLISHED-TTL:PT1H
BEGIN:VTIMEZONE
TZID:America/Toronto
BEGIN:DAYLIGHT
TZOFFSETFROM:-0500
TZOFFSETTO:-0400
TZNAME:EDT
DTSTART:20240310T070000
END:DAYLIGHT
BEGIN:STANDARD
TZOFFSETFROM:-0400
TZOFFSETTO:-0500
TZNAME:EST
DTSTART:20241103T060000
END:STANDARD
BEGIN:DAYLIGHT
TZOFFSETFROM:-0500
TZOFFSETTO:-0400
TZNAME:EDT
DTSTART:20250309T070000
END:DAYLIGHT
BEGIN:STANDARD
TZOFFSETFROM:-0400
TZOFFSETTO:-0500
TZNAME:EST
DTSTART:20251102T060000
END:STANDARD
BEGIN:DAYLIGHT
TZOFFSETFROM:-0500
TZOFFSETTO:-0400
TZNAME:EDT
DTSTART:20260308T070000
END:DAYLIGHT
BEGIN:STANDARD
TZOFFSETFROM:-0400
TZOFFSETTO:-0500
TZNAME:EST
DTSTART:20261101T060000
END:STANDARD
END:VTIMEZONE
BEGIN:VEVENT
DTSTART;TZID=America/Toronto:20250210T190000
DTEND;TZID=America/Toronto:20250210T210000
DTSTAMP:20260421T211257
CREATED:20250106T055150Z
LAST-MODIFIED:20250122T221621Z
UID:1171-1739214000-1739221200@www.kincardinenimrodclub.ca
SUMMARY:LSBA Match
DESCRIPTION:LSBA Match — Anyone is welcome to come and shoot\,22 rimfire rifle\, air rifle or air pistol on any of the above dates.
URL:https://www.kincardinenimrodclub.ca/index.php/event/lsba-match-2/
LOCATION:Indoor Range\, 2334 12th Conc\, Huron-Kinloss\, Ontario\, N0G2R0\, Canada
CATEGORIES:LSBA
END:VEVENT
BEGIN:VEVENT
DTSTART;TZID=America/Toronto:20250224T190000
DTEND;TZID=America/Toronto:20250224T210000
DTSTAMP:20260421T211257
CREATED:20250106T055150Z
LAST-MODIFIED:20250122T221621Z
UID:1172-1740423600-1740430800@www.kincardinenimrodclub.ca
SUMMARY:LSBA Practice
DESCRIPTION:LSBA Practice — Anyone is welcome to come and shoot\,22 rimfire rifle\, air rifle or air pistol on any of the above dates.
URL:https://www.kincardinenimrodclub.ca/index.php/event/lsba-practice-2/
LOCATION:Indoor Range\, 2334 12th Conc\, Huron-Kinloss\, Ontario\, N0G2R0\, Canada
CATEGORIES:LSBA
END:VEVENT
END:VCALENDAR