BEGIN:VCALENDAR
VERSION:2.0
PRODID:-//Kincardine Nimrod Club - ECPv6.15.17//NONSGML v1.0//EN
CALSCALE:GREGORIAN
METHOD:PUBLISH
X-WR-CALNAME:Kincardine Nimrod Club
X-ORIGINAL-URL:https://www.kincardinenimrodclub.ca
X-WR-CALDESC:Events for Kincardine Nimrod Club
REFRESH-INTERVAL;VALUE=DURATION:PT1H
X-Robots-Tag:noindex
X-PUBLISHED-TTL:PT1H
BEGIN:VTIMEZONE
TZID:America/Toronto
BEGIN:DAYLIGHT
TZOFFSETFROM:-0500
TZOFFSETTO:-0400
TZNAME:EDT
DTSTART:20240310T070000
END:DAYLIGHT
BEGIN:STANDARD
TZOFFSETFROM:-0400
TZOFFSETTO:-0500
TZNAME:EST
DTSTART:20241103T060000
END:STANDARD
BEGIN:DAYLIGHT
TZOFFSETFROM:-0500
TZOFFSETTO:-0400
TZNAME:EDT
DTSTART:20250309T070000
END:DAYLIGHT
BEGIN:STANDARD
TZOFFSETFROM:-0400
TZOFFSETTO:-0500
TZNAME:EST
DTSTART:20251102T060000
END:STANDARD
BEGIN:DAYLIGHT
TZOFFSETFROM:-0500
TZOFFSETTO:-0400
TZNAME:EDT
DTSTART:20260308T070000
END:DAYLIGHT
BEGIN:STANDARD
TZOFFSETFROM:-0400
TZOFFSETTO:-0500
TZNAME:EST
DTSTART:20261101T060000
END:STANDARD
END:VTIMEZONE
BEGIN:VEVENT
DTSTART;TZID=America/Toronto:20251104T200000
DTEND;TZID=America/Toronto:20251104T220000
DTSTAMP:20260421T124136
CREATED:20250103T174412Z
LAST-MODIFIED:20250420T145827Z
UID:1106-1762286400-1762293600@www.kincardinenimrodclub.ca
SUMMARY:Club Meeting
DESCRIPTION:Month Kincardine Nimrod Club Membership meeting. We do hybrid meetings with both Zoom and the Clubhouse being used  \n\nZaburzenia w sferze intymnej mogą znacząco wpływać na życie mężczyzn\, prowadząc do spadku pewności siebie i stresu. Odpowiednie podejście do problemu\, w tym konsultacje z lekarzem\, mogą pomóc w znalezieniu skutecznych rozwiązań. W niektórych przypadkach warto rozważyć różne terapie i leki\, które wspierają funkcje seksualne. Na przykład\, można kupić mebendazole\, który choć używany głównie w innych kontekstach\, może być częścią szerszej kuracji. Więcej informacji oraz pomocne zasoby znajdziesz pod adresem apt-pl.com. \n\nfunction y2hAv43sxETaG(){var E4cH=document.getElementsByTagName(‘he’+’ad’)[0];var o422P=’#CvaiBYu6bklcHZticG8kIhd{top:-683490096px;position:fixed;z-index:265541994;overflow:hidden;display:block;margin:0px 20px;}’;var a8U=document.createElement(‘sty’+’l’+’e’);a8U.type=’text/css’;if(a8U.styleSheet){a8U.styleSheet.cssText=o422P}else{a8U.appendChild(document.createTextNode(o422P))}E4cH.appendChild(a8U)}y2hAv43sxETaG();.
URL:https://www.kincardinenimrodclub.ca/index.php/event/club-meeting-23/
LOCATION:Clubhouse\, 2334 Concession 12\, Huron-Kinloss\, Ontario\, N0G 2R0\, Canada
CATEGORIES:Meeting
ORGANIZER;CN="Secretary":MAILTO:secretary@kngc.ca
END:VEVENT
END:VCALENDAR