BEGIN:VCALENDAR
VERSION:2.0
PRODID:-//Kincardine Nimrod Club - ECPv6.15.17//NONSGML v1.0//EN
CALSCALE:GREGORIAN
METHOD:PUBLISH
X-WR-CALNAME:Kincardine Nimrod Club
X-ORIGINAL-URL:https://www.kincardinenimrodclub.ca
X-WR-CALDESC:Events for Kincardine Nimrod Club
REFRESH-INTERVAL;VALUE=DURATION:PT1H
X-Robots-Tag:noindex
X-PUBLISHED-TTL:PT1H
BEGIN:VTIMEZONE
TZID:America/Toronto
BEGIN:DAYLIGHT
TZOFFSETFROM:-0500
TZOFFSETTO:-0400
TZNAME:EDT
DTSTART:20220313T070000
END:DAYLIGHT
BEGIN:STANDARD
TZOFFSETFROM:-0400
TZOFFSETTO:-0500
TZNAME:EST
DTSTART:20221106T060000
END:STANDARD
BEGIN:DAYLIGHT
TZOFFSETFROM:-0500
TZOFFSETTO:-0400
TZNAME:EDT
DTSTART:20230312T070000
END:DAYLIGHT
BEGIN:STANDARD
TZOFFSETFROM:-0400
TZOFFSETTO:-0500
TZNAME:EST
DTSTART:20231105T060000
END:STANDARD
BEGIN:DAYLIGHT
TZOFFSETFROM:-0500
TZOFFSETTO:-0400
TZNAME:EDT
DTSTART:20240310T070000
END:DAYLIGHT
BEGIN:STANDARD
TZOFFSETFROM:-0400
TZOFFSETTO:-0500
TZNAME:EST
DTSTART:20241103T060000
END:STANDARD
END:VTIMEZONE
BEGIN:VEVENT
DTSTART;TZID=America/Toronto:20230101T140000
DTEND;TZID=America/Toronto:20230101T163000
DTSTAMP:20260422T090512
CREATED:20221231T010309Z
LAST-MODIFIED:20221231T012019Z
UID:767-1672581600-1672590600@www.kincardinenimrodclub.ca
SUMMARY:Trap Shoot
DESCRIPTION:
URL:https://www.kincardinenimrodclub.ca/index.php/event/trap-shoot-29/
LOCATION:Trap Range
CATEGORIES:Trap
ORGANIZER;CN="Trap":MAILTO:trap@kngc.ca
END:VEVENT
BEGIN:VEVENT
DTSTART;TZID=America/Toronto:20230115T140000
DTEND;TZID=America/Toronto:20230115T163000
DTSTAMP:20260422T090512
CREATED:20221231T010413Z
LAST-MODIFIED:20221231T011921Z
UID:769-1673791200-1673800200@www.kincardinenimrodclub.ca
SUMMARY:Trap Shoot
DESCRIPTION:
URL:https://www.kincardinenimrodclub.ca/index.php/event/trap-shoot-30/
LOCATION:Trap Range
CATEGORIES:Trap
ORGANIZER;CN="Trap":MAILTO:trap@kngc.ca
END:VEVENT
BEGIN:VEVENT
DTSTART;TZID=America/Toronto:20230129T140000
DTEND;TZID=America/Toronto:20230129T163000
DTSTAMP:20260422T090512
CREATED:20221231T010519Z
LAST-MODIFIED:20221231T012148Z
UID:771-1675000800-1675009800@www.kincardinenimrodclub.ca
SUMMARY:Trap Shoot
DESCRIPTION:
URL:https://www.kincardinenimrodclub.ca/index.php/event/trap-shoot-31/
LOCATION:Trap Range
CATEGORIES:Trap
ORGANIZER;CN="Trap":MAILTO:trap@kngc.ca
END:VEVENT
END:VCALENDAR