BEGIN:VCALENDAR
VERSION:2.0
PRODID:-//Kincardine Nimrod Club - ECPv6.15.17//NONSGML v1.0//EN
CALSCALE:GREGORIAN
METHOD:PUBLISH
X-ORIGINAL-URL:https://www.kincardinenimrodclub.ca
X-WR-CALDESC:Events for Kincardine Nimrod Club
REFRESH-INTERVAL;VALUE=DURATION:PT1H
X-Robots-Tag:noindex
X-PUBLISHED-TTL:PT1H
BEGIN:VTIMEZONE
TZID:America/Toronto
BEGIN:DAYLIGHT
TZOFFSETFROM:-0500
TZOFFSETTO:-0400
TZNAME:EDT
DTSTART:20220313T070000
END:DAYLIGHT
BEGIN:STANDARD
TZOFFSETFROM:-0400
TZOFFSETTO:-0500
TZNAME:EST
DTSTART:20221106T060000
END:STANDARD
BEGIN:DAYLIGHT
TZOFFSETFROM:-0500
TZOFFSETTO:-0400
TZNAME:EDT
DTSTART:20230312T070000
END:DAYLIGHT
BEGIN:STANDARD
TZOFFSETFROM:-0400
TZOFFSETTO:-0500
TZNAME:EST
DTSTART:20231105T060000
END:STANDARD
BEGIN:DAYLIGHT
TZOFFSETFROM:-0500
TZOFFSETTO:-0400
TZNAME:EDT
DTSTART:20240310T070000
END:DAYLIGHT
BEGIN:STANDARD
TZOFFSETFROM:-0400
TZOFFSETTO:-0500
TZNAME:EST
DTSTART:20241103T060000
END:STANDARD
END:VTIMEZONE
BEGIN:VEVENT
DTSTART;TZID=America/Toronto:20231105T140000
DTEND;TZID=America/Toronto:20231105T163000
DTSTAMP:20260421T201804
CREATED:20231007T031929Z
LAST-MODIFIED:20231007T031929Z
UID:893-1699192800-1699201800@www.kincardinenimrodclub.ca
SUMMARY:Trap Shoot
DESCRIPTION:
URL:https://www.kincardinenimrodclub.ca/index.php/event/trap-shoot-49/
LOCATION:Trap Range
CATEGORIES:Trap
ORGANIZER;CN="Trap":MAILTO:trap@kngc.ca
END:VEVENT
BEGIN:VEVENT
DTSTART;TZID=America/Toronto:20231119T140000
DTEND;TZID=America/Toronto:20231119T163000
DTSTAMP:20260421T201804
CREATED:20231007T032051Z
LAST-MODIFIED:20231007T032051Z
UID:895-1700402400-1700411400@www.kincardinenimrodclub.ca
SUMMARY:Trap Shoot
DESCRIPTION:
URL:https://www.kincardinenimrodclub.ca/index.php/event/trap-shoot-50/
LOCATION:Trap Range
CATEGORIES:Trap
ORGANIZER;CN="Trap":MAILTO:trap@kngc.ca
END:VEVENT
END:VCALENDAR