BEGIN:VCALENDAR
VERSION:2.0
PRODID:-//Kincardine Nimrod Club - ECPv6.15.17//NONSGML v1.0//EN
CALSCALE:GREGORIAN
METHOD:PUBLISH
X-WR-CALNAME:Kincardine Nimrod Club
X-ORIGINAL-URL:https://www.kincardinenimrodclub.ca
X-WR-CALDESC:Events for Kincardine Nimrod Club
REFRESH-INTERVAL;VALUE=DURATION:PT1H
X-Robots-Tag:noindex
X-PUBLISHED-TTL:PT1H
BEGIN:VTIMEZONE
TZID:America/Toronto
BEGIN:DAYLIGHT
TZOFFSETFROM:-0500
TZOFFSETTO:-0400
TZNAME:EDT
DTSTART:20240310T070000
END:DAYLIGHT
BEGIN:STANDARD
TZOFFSETFROM:-0400
TZOFFSETTO:-0500
TZNAME:EST
DTSTART:20241103T060000
END:STANDARD
BEGIN:DAYLIGHT
TZOFFSETFROM:-0500
TZOFFSETTO:-0400
TZNAME:EDT
DTSTART:20250309T070000
END:DAYLIGHT
BEGIN:STANDARD
TZOFFSETFROM:-0400
TZOFFSETTO:-0500
TZNAME:EST
DTSTART:20251102T060000
END:STANDARD
BEGIN:DAYLIGHT
TZOFFSETFROM:-0500
TZOFFSETTO:-0400
TZNAME:EDT
DTSTART:20260308T070000
END:DAYLIGHT
BEGIN:STANDARD
TZOFFSETFROM:-0400
TZOFFSETTO:-0500
TZNAME:EST
DTSTART:20261101T060000
END:STANDARD
END:VTIMEZONE
BEGIN:VEVENT
DTSTART;TZID=America/Toronto:20250112T140000
DTEND;TZID=America/Toronto:20250112T163000
DTSTAMP:20260421T010426
CREATED:20250107T162037Z
LAST-MODIFIED:20250107T162037Z
UID:1178-1736690400-1736699400@www.kincardinenimrodclub.ca
SUMMARY:Trap Shoot
DESCRIPTION:Trap Shoot
URL:https://www.kincardinenimrodclub.ca/index.php/event/trap-shoot-80/
LOCATION:Trap Range
CATEGORIES:Trap
ORGANIZER;CN="Trap":MAILTO:trap@kngc.ca
END:VEVENT
BEGIN:VEVENT
DTSTART;TZID=America/Toronto:20250126T140000
DTEND;TZID=America/Toronto:20250126T163000
DTSTAMP:20260421T010426
CREATED:20250107T162037Z
LAST-MODIFIED:20250107T162037Z
UID:1179-1737900000-1737909000@www.kincardinenimrodclub.ca
SUMMARY:Trap Shoot
DESCRIPTION:Trap Shoot
URL:https://www.kincardinenimrodclub.ca/index.php/event/trap-shoot-81/
LOCATION:Trap Range
CATEGORIES:Trap
ORGANIZER;CN="Trap":MAILTO:trap@kngc.ca
END:VEVENT
END:VCALENDAR