BEGIN:VCALENDAR
VERSION:2.0
PRODID:-//Kincardine Nimrod Club - ECPv6.15.17//NONSGML v1.0//EN
CALSCALE:GREGORIAN
METHOD:PUBLISH
X-WR-CALNAME:Kincardine Nimrod Club
X-ORIGINAL-URL:https://www.kincardinenimrodclub.ca
X-WR-CALDESC:Events for Kincardine Nimrod Club
REFRESH-INTERVAL;VALUE=DURATION:PT1H
X-Robots-Tag:noindex
X-PUBLISHED-TTL:PT1H
BEGIN:VTIMEZONE
TZID:America/Toronto
BEGIN:DAYLIGHT
TZOFFSETFROM:-0500
TZOFFSETTO:-0400
TZNAME:EDT
DTSTART:20240310T070000
END:DAYLIGHT
BEGIN:STANDARD
TZOFFSETFROM:-0400
TZOFFSETTO:-0500
TZNAME:EST
DTSTART:20241103T060000
END:STANDARD
BEGIN:DAYLIGHT
TZOFFSETFROM:-0500
TZOFFSETTO:-0400
TZNAME:EDT
DTSTART:20250309T070000
END:DAYLIGHT
BEGIN:STANDARD
TZOFFSETFROM:-0400
TZOFFSETTO:-0500
TZNAME:EST
DTSTART:20251102T060000
END:STANDARD
BEGIN:DAYLIGHT
TZOFFSETFROM:-0500
TZOFFSETTO:-0400
TZNAME:EDT
DTSTART:20260308T070000
END:DAYLIGHT
BEGIN:STANDARD
TZOFFSETFROM:-0400
TZOFFSETTO:-0500
TZNAME:EST
DTSTART:20261101T060000
END:STANDARD
END:VTIMEZONE
BEGIN:VEVENT
DTSTART;TZID=America/Toronto:20251012T140000
DTEND;TZID=America/Toronto:20251012T163000
DTSTAMP:20260420T114403
CREATED:20251005T144032Z
LAST-MODIFIED:20251005T144032Z
UID:1264-1760277600-1760286600@www.kincardinenimrodclub.ca
SUMMARY:Trap Shoot
DESCRIPTION:
URL:https://www.kincardinenimrodclub.ca/index.php/event/trap-shoot-98/
LOCATION:Trap Range
CATEGORIES:Trap
ORGANIZER;CN="Trap":MAILTO:trap@kngc.ca
END:VEVENT
BEGIN:VEVENT
DTSTART;TZID=America/Toronto:20251026T140000
DTEND;TZID=America/Toronto:20251026T163000
DTSTAMP:20260420T114403
CREATED:20251005T144201Z
LAST-MODIFIED:20251005T144201Z
UID:1266-1761487200-1761496200@www.kincardinenimrodclub.ca
SUMMARY:Trap Shoot
DESCRIPTION:
URL:https://www.kincardinenimrodclub.ca/index.php/event/trap-shoot-99/
LOCATION:Trap Range
CATEGORIES:Trap
ORGANIZER;CN="Trap":MAILTO:trap@kngc.ca
END:VEVENT
END:VCALENDAR